BEGIN:VCALENDAR
VERSION:2.0
PRODID:-//Hildenborough Parish Council - ECPv6.15.20//NONSGML v1.0//EN
CALSCALE:GREGORIAN
METHOD:PUBLISH
X-WR-CALNAME:Hildenborough Parish Council
X-ORIGINAL-URL:https://www.hildenboroughparishcouncil.gov.uk
X-WR-CALDESC:Events for Hildenborough Parish Council
REFRESH-INTERVAL;VALUE=DURATION:PT1H
X-Robots-Tag:noindex
X-PUBLISHED-TTL:PT1H
BEGIN:VTIMEZONE
TZID:Europe/London
BEGIN:DAYLIGHT
TZOFFSETFROM:+0000
TZOFFSETTO:+0100
TZNAME:BST
DTSTART:20230326T010000
END:DAYLIGHT
BEGIN:STANDARD
TZOFFSETFROM:+0100
TZOFFSETTO:+0000
TZNAME:GMT
DTSTART:20231029T010000
END:STANDARD
BEGIN:DAYLIGHT
TZOFFSETFROM:+0000
TZOFFSETTO:+0100
TZNAME:BST
DTSTART:20240331T010000
END:DAYLIGHT
BEGIN:STANDARD
TZOFFSETFROM:+0100
TZOFFSETTO:+0000
TZNAME:GMT
DTSTART:20241027T010000
END:STANDARD
BEGIN:DAYLIGHT
TZOFFSETFROM:+0000
TZOFFSETTO:+0100
TZNAME:BST
DTSTART:20250330T010000
END:DAYLIGHT
BEGIN:STANDARD
TZOFFSETFROM:+0100
TZOFFSETTO:+0000
TZNAME:GMT
DTSTART:20251026T010000
END:STANDARD
BEGIN:DAYLIGHT
TZOFFSETFROM:+0000
TZOFFSETTO:+0100
TZNAME:BST
DTSTART:20260329T010000
END:DAYLIGHT
BEGIN:STANDARD
TZOFFSETFROM:+0100
TZOFFSETTO:+0000
TZNAME:GMT
DTSTART:20261025T010000
END:STANDARD
END:VTIMEZONE
BEGIN:VEVENT
DTSTART;TZID=Europe/London:20250707T190000
DTEND;TZID=Europe/London:20250707T190000
DTSTAMP:20260423T003424
CREATED:20250402T212924Z
LAST-MODIFIED:20250402T212924Z
UID:20480-1751914800-1751914800@www.hildenboroughparishcouncil.gov.uk
SUMMARY:Planning Committee Meeting
DESCRIPTION:
URL:https://www.hildenboroughparishcouncil.gov.uk/event/planning-committee-meeting-81/
LOCATION:Committee Room\, Hildenborough Village Hall\, Committee Room\, Hildenborough Village Hall
CATEGORIES:Parish Council Meetings
END:VEVENT
BEGIN:VEVENT
DTSTART;TZID=Europe/London:20250623T190000
DTEND;TZID=Europe/London:20250623T190000
DTSTAMP:20260423T003424
CREATED:20250402T212846Z
LAST-MODIFIED:20250402T212846Z
UID:20477-1750705200-1750705200@www.hildenboroughparishcouncil.gov.uk
SUMMARY:Planning Committee Meeting
DESCRIPTION:
URL:https://www.hildenboroughparishcouncil.gov.uk/event/planning-committee-meeting-80/
LOCATION:Committee Room\, Hildenborough Village Hall\, Committee Room\, Hildenborough Village Hall
CATEGORIES:Parish Council Meetings
END:VEVENT
BEGIN:VEVENT
DTSTART;TZID=Europe/London:20250611T193000
DTEND;TZID=Europe/London:20250611T193000
DTSTAMP:20260423T003424
CREATED:20250402T211842Z
LAST-MODIFIED:20250402T211842Z
UID:20425-1749670200-1749670200@www.hildenboroughparishcouncil.gov.uk
SUMMARY:Parish Council Meeting
DESCRIPTION:
URL:https://www.hildenboroughparishcouncil.gov.uk/event/parish-council-meeting-28/
LOCATION:Finzi Room\, Hildenborough Village Hall\, Finzi Room\, Hildenborough Village Hall
CATEGORIES:Parish Council Meetings
END:VEVENT
BEGIN:VEVENT
DTSTART;TZID=Europe/London:20250609T190000
DTEND;TZID=Europe/London:20250609T190000
DTSTAMP:20260423T003424
CREATED:20250402T212816Z
LAST-MODIFIED:20250402T212816Z
UID:20474-1749495600-1749495600@www.hildenboroughparishcouncil.gov.uk
SUMMARY:Planning Committee Meeting
DESCRIPTION:
URL:https://www.hildenboroughparishcouncil.gov.uk/event/planning-committee-meeting-79/
LOCATION:Committee Room\, Hildenborough Village Hall\, Committee Room\, Hildenborough Village Hall
CATEGORIES:Parish Council Meetings
END:VEVENT
BEGIN:VEVENT
DTSTART;TZID=Europe/London:20250528T193000
DTEND;TZID=Europe/London:20250528T193000
DTSTAMP:20260423T003424
CREATED:20250402T212053Z
LAST-MODIFIED:20250402T212053Z
UID:20438-1748460600-1748460600@www.hildenboroughparishcouncil.gov.uk
SUMMARY:Open Spaces Committee
DESCRIPTION:
URL:https://www.hildenboroughparishcouncil.gov.uk/event/open-spaces-committee-2/
LOCATION:Committee Room\, Hildenborough Village Hall\, Committee Room\, Hildenborough Village Hall
CATEGORIES:Parish Council Meetings
END:VEVENT
BEGIN:VEVENT
DTSTART;TZID=Europe/London:20250527T190000
DTEND;TZID=Europe/London:20250527T190000
DTSTAMP:20260423T003424
CREATED:20250402T212754Z
LAST-MODIFIED:20250402T212754Z
UID:20471-1748372400-1748372400@www.hildenboroughparishcouncil.gov.uk
SUMMARY:Planning Committee Meeting
DESCRIPTION:
URL:https://www.hildenboroughparishcouncil.gov.uk/event/planning-committee-meeting-78/
LOCATION:Committee Room\, Hildenborough Village Hall\, Committee Room\, Hildenborough Village Hall
CATEGORIES:Parish Council Meetings
END:VEVENT
BEGIN:VEVENT
DTSTART;TZID=Europe/London:20250514T193000
DTEND;TZID=Europe/London:20250514T193000
DTSTAMP:20260423T003424
CREATED:20250402T211832Z
LAST-MODIFIED:20250402T211832Z
UID:20423-1747251000-1747251000@www.hildenboroughparishcouncil.gov.uk
SUMMARY:Annual Parish Meeting
DESCRIPTION:
URL:https://www.hildenboroughparishcouncil.gov.uk/event/annual-parish-meeting-4/
LOCATION:Finzi Room\, Hildenborough Village Hall\, Finzi Room\, Hildenborough Village Hall
CATEGORIES:Parish Council Meetings
END:VEVENT
BEGIN:VEVENT
DTSTART;TZID=Europe/London:20250512T190000
DTEND;TZID=Europe/London:20250512T190000
DTSTAMP:20260423T003424
CREATED:20250402T212730Z
LAST-MODIFIED:20250402T212730Z
UID:20468-1747076400-1747076400@www.hildenboroughparishcouncil.gov.uk
SUMMARY:Planning Committee Meeting
DESCRIPTION:
URL:https://www.hildenboroughparishcouncil.gov.uk/event/planning-committee-meeting-77/
LOCATION:Committee Room\, Hildenborough Village Hall\, Committee Room\, Hildenborough Village Hall
CATEGORIES:Parish Council Meetings
END:VEVENT
BEGIN:VEVENT
DTSTART;TZID=Europe/London:20250428T190000
DTEND;TZID=Europe/London:20250428T190000
DTSTAMP:20260423T003424
CREATED:20250402T212710Z
LAST-MODIFIED:20250402T212710Z
UID:20465-1745866800-1745866800@www.hildenboroughparishcouncil.gov.uk
SUMMARY:Planning Committee Meeting
DESCRIPTION:
URL:https://www.hildenboroughparishcouncil.gov.uk/event/planning-committee-meeting-76/
LOCATION:Committee Room\, Hildenborough Village Hall\, Committee Room\, Hildenborough Village Hall
CATEGORIES:Parish Council Meetings
END:VEVENT
BEGIN:VEVENT
DTSTART;TZID=Europe/London:20250414T190000
DTEND;TZID=Europe/London:20250414T190000
DTSTAMP:20260423T003424
CREATED:20250402T212642Z
LAST-MODIFIED:20250402T212642Z
UID:20462-1744657200-1744657200@www.hildenboroughparishcouncil.gov.uk
SUMMARY:Planning Committee Meeting
DESCRIPTION:
URL:https://www.hildenboroughparishcouncil.gov.uk/event/planning-committee-meeting-75/
LOCATION:Committee Room\, Hildenborough Village Hall\, Committee Room\, Hildenborough Village Hall
CATEGORIES:Parish Council Meetings
END:VEVENT
BEGIN:VEVENT
DTSTART;TZID=Europe/London:20250409T193000
DTEND;TZID=Europe/London:20250409T193000
DTSTAMP:20260423T003424
CREATED:20250402T211819Z
LAST-MODIFIED:20250402T211819Z
UID:20421-1744227000-1744227000@www.hildenboroughparishcouncil.gov.uk
SUMMARY:Parish Council Meeting
DESCRIPTION:
URL:https://www.hildenboroughparishcouncil.gov.uk/event/parish-council-meeting-27/
LOCATION:Finzi Room\, Hildenborough Village Hall\, Finzi Room\, Hildenborough Village Hall
CATEGORIES:Parish Council Meetings
END:VEVENT
BEGIN:VEVENT
DTSTART;TZID=Europe/London:20250326T193000
DTEND;TZID=Europe/London:20250326T193000
DTSTAMP:20260423T003424
CREATED:20250320T135802Z
LAST-MODIFIED:20250320T135802Z
UID:20388-1743017400-1743017400@www.hildenboroughparishcouncil.gov.uk
SUMMARY:Open Spaces Committee
DESCRIPTION:
URL:https://www.hildenboroughparishcouncil.gov.uk/event/open-spaces-committee/
LOCATION:Committee Room\, Hildenborough Village Hall\, Committee Room\, Hildenborough Village Hall
CATEGORIES:Open Spaces Committee
END:VEVENT
BEGIN:VEVENT
DTSTART;TZID=Europe/London:20250320T190000
DTEND;TZID=Europe/London:20250320T190000
DTSTAMP:20260423T003424
CREATED:20250318T132008Z
LAST-MODIFIED:20250318T132008Z
UID:20377-1742497200-1742497200@www.hildenboroughparishcouncil.gov.uk
SUMMARY:Extraordinary Meeting
DESCRIPTION:
URL:https://www.hildenboroughparishcouncil.gov.uk/event/extraordinary-meeting-2/
LOCATION:Committee Room\, Hildenborough Village Hall\, Committee Room\, Hildenborough Village Hall
CATEGORIES:Parish Council Meetings
END:VEVENT
BEGIN:VEVENT
DTSTART;TZID=Europe/London:20250303T190000
DTEND;TZID=Europe/London:20250303T190000
DTSTAMP:20260423T003424
CREATED:20250226T152056Z
LAST-MODIFIED:20250226T152056Z
UID:20348-1741028400-1741028400@www.hildenboroughparishcouncil.gov.uk
SUMMARY:Planning Committee Meeting
DESCRIPTION:
URL:https://www.hildenboroughparishcouncil.gov.uk/event/planning-committee-meeting-74/
LOCATION:Committee Room\, Hildenborough Village Hall\, Committee Room\, Hildenborough Village Hall
CATEGORIES:Planning Committee
END:VEVENT
BEGIN:VEVENT
DTSTART;TZID=Europe/London:20250212T193000
DTEND;TZID=Europe/London:20250212T193000
DTSTAMP:20260423T003424
CREATED:20250207T000104Z
LAST-MODIFIED:20250207T000104Z
UID:20292-1739388600-1739388600@www.hildenboroughparishcouncil.gov.uk
SUMMARY:Parish Council Meeting
DESCRIPTION:
URL:https://www.hildenboroughparishcouncil.gov.uk/event/parish-council-meeting-26/
LOCATION:Finzi Room\, Hildenborough Village Hall\, Finzi Room\, Hildenborough Village Hall
CATEGORIES:Parish Council Meetings
END:VEVENT
BEGIN:VEVENT
DTSTART;TZID=Europe/London:20250129T193000
DTEND;TZID=Europe/London:20250129T193000
DTSTAMP:20260423T003424
CREATED:20250122T175011Z
LAST-MODIFIED:20250122T175011Z
UID:20254-1738179000-1738179000@www.hildenboroughparishcouncil.gov.uk
SUMMARY:Open Spaces Group
DESCRIPTION:
URL:https://www.hildenboroughparishcouncil.gov.uk/event/open-spaces-group/
LOCATION:Committee Room\, Hildenborough Village Hall\, Committee Room\, Hildenborough Village Hall
CATEGORIES:Open Spaces Group
END:VEVENT
BEGIN:VEVENT
DTSTART;TZID=Europe/London:20250120T190000
DTEND;TZID=Europe/London:20250120T190000
DTSTAMP:20260423T003424
CREATED:20250116T120620Z
LAST-MODIFIED:20250116T120620Z
UID:20243-1737399600-1737399600@www.hildenboroughparishcouncil.gov.uk
SUMMARY:Planning Committee Meeting
DESCRIPTION:
URL:https://www.hildenboroughparishcouncil.gov.uk/event/planning-committee-meeting-73/
LOCATION:Committee Room\, Hildenborough Village Hall\, Committee Room\, Hildenborough Village Hall
CATEGORIES:Planning Committee
END:VEVENT
BEGIN:VEVENT
DTSTART;TZID=Europe/London:20250120T190000
DTEND;TZID=Europe/London:20250120T190000
DTSTAMP:20260423T003424
CREATED:20250116T120527Z
LAST-MODIFIED:20250116T120527Z
UID:20242-1737399600-1737399600@www.hildenboroughparishcouncil.gov.uk
SUMMARY:Planning Committee Meeting
DESCRIPTION:
URL:https://www.hildenboroughparishcouncil.gov.uk/event/planning-committee-meeting-72/
LOCATION:Committee Room\, Hildenborough Village Hall\, Committee Room\, Hildenborough Village Hall
CATEGORIES:Planning Committee
END:VEVENT
BEGIN:VEVENT
DTSTART;TZID=Europe/London:20250106T193000
DTEND;TZID=Europe/London:20250106T200000
DTSTAMP:20260423T003424
CREATED:20241231T143034Z
LAST-MODIFIED:20241231T144048Z
UID:20167-1736191800-1736193600@www.hildenboroughparishcouncil.gov.uk
SUMMARY:
DESCRIPTION:Extraordinary
URL:https://www.hildenboroughparishcouncil.gov.uk/event/20167/
LOCATION:Committee Room\, Hildenborough Village Hall\, Committee Room\, Hildenborough Village Hall
CATEGORIES:Parish Council Meetings
END:VEVENT
BEGIN:VEVENT
DTSTART;TZID=Europe/London:20250106T190000
DTEND;TZID=Europe/London:20250106T193000
DTSTAMP:20260423T003424
CREATED:20241231T153045Z
LAST-MODIFIED:20241231T153045Z
UID:20186-1736190000-1736191800@www.hildenboroughparishcouncil.gov.uk
SUMMARY:Planning Committee Meeting
DESCRIPTION:
URL:https://www.hildenboroughparishcouncil.gov.uk/event/planning-committee-meeting-69/
CATEGORIES:Planning Committee
END:VEVENT
BEGIN:VEVENT
DTSTART;TZID=Europe/London:20250106T190000
DTEND;TZID=Europe/London:20250106T190000
DTSTAMP:20260423T003424
CREATED:20250106T222343Z
LAST-MODIFIED:20250106T222343Z
UID:20213-1736190000-1736190000@www.hildenboroughparishcouncil.gov.uk
SUMMARY:Planning Committee Meeting
DESCRIPTION:
URL:https://www.hildenboroughparishcouncil.gov.uk/event/planning-committee-meeting-71/
LOCATION:Finzi Room\, Hildenborough Village Hall\, Finzi Room\, Hildenborough Village Hall
CATEGORIES:Planning Committee
END:VEVENT
BEGIN:VEVENT
DTSTART;TZID=Europe/London:20250106T190000
DTEND;TZID=Europe/London:20250106T190000
DTSTAMP:20260423T003424
CREATED:20250106T222318Z
LAST-MODIFIED:20250106T222318Z
UID:20212-1736190000-1736190000@www.hildenboroughparishcouncil.gov.uk
SUMMARY:Planning Committee Meeting
DESCRIPTION:
URL:https://www.hildenboroughparishcouncil.gov.uk/event/planning-committee-meeting-70/
LOCATION:Finzi Room\, Hildenborough Village Hall\, Finzi Room\, Hildenborough Village Hall
CATEGORIES:Planning Committee
END:VEVENT
BEGIN:VEVENT
DTSTART;TZID=Europe/London:20241016T190000
DTEND;TZID=Europe/London:20241016T190000
DTSTAMP:20260423T003424
CREATED:20241011T162249Z
LAST-MODIFIED:20241011T162249Z
UID:19895-1729105200-1729105200@www.hildenboroughparishcouncil.gov.uk
SUMMARY:Extraordinary Meeting
DESCRIPTION:
URL:https://www.hildenboroughparishcouncil.gov.uk/event/extraordinary-meeting/
LOCATION:Finzi Room\, Hildenborough Village Hall\, Finzi Room\, Hildenborough Village Hall
CATEGORIES:Parish Council Meetings
END:VEVENT
BEGIN:VEVENT
DTSTART;TZID=Europe/London:20240916T190000
DTEND;TZID=Europe/London:20240916T200000
DTSTAMP:20260423T003424
CREATED:20240801T122322Z
LAST-MODIFIED:20240801T122514Z
UID:19624-1726513200-1726516800@www.hildenboroughparishcouncil.gov.uk
SUMMARY:Planning Committee Meeting
DESCRIPTION:
URL:https://www.hildenboroughparishcouncil.gov.uk/event/planning-committee-meeting-68/
LOCATION:Committee Room\, Hildenborough Village Hall\, Committee Room\, Hildenborough Village Hall
END:VEVENT
BEGIN:VEVENT
DTSTART;TZID=Europe/London:20240911T193000
DTEND;TZID=Europe/London:20240911T210000
DTSTAMP:20260423T003424
CREATED:20240801T122003Z
LAST-MODIFIED:20240801T122548Z
UID:19615-1726083000-1726088400@www.hildenboroughparishcouncil.gov.uk
SUMMARY:Parish Council Meeting
DESCRIPTION:
URL:https://www.hildenboroughparishcouncil.gov.uk/event/parish-council-meeting-25/
LOCATION:Finzi Room\, Hildenborough Village Hall\, Finzi Room\, Hildenborough Village Hall
END:VEVENT
BEGIN:VEVENT
DTSTART;TZID=Europe/London:20240904T193000
DTEND;TZID=Europe/London:20240904T203000
DTSTAMP:20260423T003424
CREATED:20240801T121639Z
LAST-MODIFIED:20240801T121913Z
UID:19612-1725478200-1725481800@www.hildenboroughparishcouncil.gov.uk
SUMMARY:Open Spaces Committee Meeting
DESCRIPTION:
URL:https://www.hildenboroughparishcouncil.gov.uk/event/open-spaces-committee-meeting-7/
END:VEVENT
BEGIN:VEVENT
DTSTART;TZID=Europe/London:20240902T190000
DTEND;TZID=Europe/London:20240902T200000
DTSTAMP:20260423T003424
CREATED:20240801T122238Z
LAST-MODIFIED:20240902T053820Z
UID:19621-1725303600-1725307200@www.hildenboroughparishcouncil.gov.uk
SUMMARY:Planning Committee Meeting
DESCRIPTION:Meeting Cancelled.
URL:https://www.hildenboroughparishcouncil.gov.uk/event/planning-committee-meeting-67/
LOCATION:Committee Room\, Hildenborough Village Hall\, Committee Room\, Hildenborough Village Hall
END:VEVENT
BEGIN:VEVENT
DTSTART;TZID=Europe/London:20240819T190000
DTEND;TZID=Europe/London:20240819T200000
DTSTAMP:20260423T003424
CREATED:20240801T122132Z
LAST-MODIFIED:20240801T122132Z
UID:19618-1724094000-1724097600@www.hildenboroughparishcouncil.gov.uk
SUMMARY:Planning Committee Meeting
DESCRIPTION:
URL:https://www.hildenboroughparishcouncil.gov.uk/event/planning-committee-meeting-66/
LOCATION:Committee Room\, Hildenborough Village Hall\, Committee Room\, Hildenborough Village Hall
END:VEVENT
BEGIN:VEVENT
DTSTART;TZID=Europe/London:20240805T190000
DTEND;TZID=Europe/London:20240805T200000
DTSTAMP:20260423T003424
CREATED:20240801T121459Z
LAST-MODIFIED:20240801T121459Z
UID:19609-1722884400-1722888000@www.hildenboroughparishcouncil.gov.uk
SUMMARY:Planning Committee Meeting
DESCRIPTION:
URL:https://www.hildenboroughparishcouncil.gov.uk/event/planning-committee-meeting-65/
END:VEVENT
BEGIN:VEVENT
DTSTART;TZID=Europe/London:20240706T100000
DTEND;TZID=Europe/London:20240706T120000
DTSTAMP:20260423T003424
CREATED:20240522T090054Z
LAST-MODIFIED:20240522T090054Z
UID:19346-1720260000-1720267200@www.hildenboroughparishcouncil.gov.uk
SUMMARY:Hildenborough Litter Pick
DESCRIPTION:Join the Hildenborough Litter Pickers on the first Saturday of the month – meet at 10am in the Recreation Ground Car Park.  For more information\, join the Hildenborough Litter Pickers Facebook Group https://www.facebook.com/groups/575374106826822
URL:https://www.hildenboroughparishcouncil.gov.uk/event/hildenborough-litter-pick-2/
END:VEVENT
END:VCALENDAR